Package: sparrow Version: 1.14.0 Command: rm -rf sparrow.buildbin-libdir && mkdir sparrow.buildbin-libdir && E:\biocbuild\bbs-3.21-bioc\R\bin\R.exe CMD INSTALL --build --library=sparrow.buildbin-libdir sparrow_1.14.0.tar.gz StartedAt: 2025-08-15 10:21:56 -0400 (Fri, 15 Aug 2025) EndedAt: 2025-08-15 10:23:36 -0400 (Fri, 15 Aug 2025) EllapsedTime: 99.8 seconds RetCode: 0 Status: OK PackageFile: sparrow_1.14.0.zip PackageFileSize: 4.258 MiB