Package: sparrow Version: 1.14.0 Command: /home/biocbuild/bbs-3.21-bioc/R/bin/R CMD check --install=check:sparrow.install-out.txt --library=/home/biocbuild/bbs-3.21-bioc/R/site-library --timings sparrow_1.14.0.tar.gz StartedAt: 2025-10-16 03:51:01 -0400 (Thu, 16 Oct 2025) EndedAt: 2025-10-16 04:00:41 -0400 (Thu, 16 Oct 2025) EllapsedTime: 579.6 seconds RetCode: 0 Status: OK CheckDir: sparrow.Rcheck Warnings: 0