Package: sparrow Version: 1.14.0 Command: /Library/Frameworks/R.framework/Resources/bin/R CMD INSTALL sparrow StartedAt: 2025-10-13 15:54:03 -0400 (Mon, 13 Oct 2025) EndedAt: 2025-10-13 15:55:17 -0400 (Mon, 13 Oct 2025) EllapsedTime: 73.8 seconds RetCode: 0 Status: OK