Package: sparrow Version: 1.14.0 Command: /Library/Frameworks/R.framework/Resources/bin/R CMD check --install=check:sparrow.install-out.txt --library=/Library/Frameworks/R.framework/Resources/library --no-vignettes --timings sparrow_1.14.0.tar.gz StartedAt: 2025-10-14 10:44:19 -0400 (Tue, 14 Oct 2025) EndedAt: 2025-10-14 11:02:08 -0400 (Tue, 14 Oct 2025) EllapsedTime: 1068.8 seconds RetCode: 0 Status: OK CheckDir: sparrow.Rcheck Warnings: 0