Package: sparrow Version: 1.14.0 Command: /home/biocbuild/R/R/bin/R CMD check --install=check:sparrow.install-out.txt --library=/home/biocbuild/R/R/site-library --no-vignettes --timings sparrow_1.14.0.tar.gz StartedAt: 2025-10-14 14:34:12 -0000 (Tue, 14 Oct 2025) EndedAt: 2025-10-14 14:46:35 -0000 (Tue, 14 Oct 2025) EllapsedTime: 743.9 seconds RetCode: 1 Status: ERROR CheckDir: sparrow.Rcheck Warnings: NA