Package: sparrow Version: 1.14.0 Command: /home/biocbuild/R/R/bin/R CMD build --keep-empty-dirs --no-resave-data sparrow StartedAt: 2025-10-14 04:54:16 -0000 (Tue, 14 Oct 2025) EndedAt: 2025-10-14 04:55:55 -0000 (Tue, 14 Oct 2025) EllapsedTime: 99.0 seconds RetCode: 0 Status: OK PackageFile: sparrow_1.14.0.tar.gz PackageFileSize: 4.068 MiB