Package: sosta Version: 1.0.1 Command: /Library/Frameworks/R.framework/Resources/bin/R CMD INSTALL sosta StartedAt: 2025-10-13 15:40:56 -0400 (Mon, 13 Oct 2025) EndedAt: 2025-10-13 15:42:29 -0400 (Mon, 13 Oct 2025) EllapsedTime: 93.7 seconds RetCode: 0 Status: OK