Package: sosta Version: 1.0.0 Command: /Library/Frameworks/R.framework/Resources/bin/R CMD check --install=check:sosta.install-out.txt --library=/Library/Frameworks/R.framework/Resources/library --no-vignettes --timings sosta_1.0.0.tar.gz StartedAt: 2025-04-21 23:41:56 -0400 (Mon, 21 Apr 2025) EndedAt: 2025-04-21 23:48:14 -0400 (Mon, 21 Apr 2025) EllapsedTime: 378.4 seconds RetCode: 0 Status: OK CheckDir: sosta.Rcheck Warnings: 0