Package: soGGi Version: 1.40.1 Command: /home/biocbuild/bbs-3.21-bioc/R/bin/R CMD build --keep-empty-dirs --no-resave-data soGGi StartedAt: 2025-10-15 20:00:18 -0400 (Wed, 15 Oct 2025) EndedAt: 2025-10-15 20:01:38 -0400 (Wed, 15 Oct 2025) EllapsedTime: 80.1 seconds RetCode: 0 Status: OK PackageFile: soGGi_1.40.1.tar.gz PackageFileSize: 3.369 MiB