Package: soGGi Version: 1.40.0 Command: /Library/Frameworks/R.framework/Resources/bin/R CMD INSTALL soGGi StartedAt: 2025-04-21 15:42:53 -0400 (Mon, 21 Apr 2025) EndedAt: 2025-04-21 15:43:51 -0400 (Mon, 21 Apr 2025) EllapsedTime: 58.3 seconds RetCode: 0 Status: OK