Package: soGGi Version: 1.40.0 Command: /Library/Frameworks/R.framework/Resources/bin/R CMD check --install=check:soGGi.install-out.txt --library=/Library/Frameworks/R.framework/Resources/library --no-vignettes --timings soGGi_1.40.0.tar.gz StartedAt: 2025-04-21 23:41:34 -0400 (Mon, 21 Apr 2025) EndedAt: 2025-04-21 23:46:55 -0400 (Mon, 21 Apr 2025) EllapsedTime: 320.9 seconds RetCode: 0 Status: OK CheckDir: soGGi.Rcheck Warnings: 0