Package: soGGi Version: 1.40.0 Command: /Library/Frameworks/R.framework/Resources/bin/R CMD build --keep-empty-dirs --no-resave-data soGGi StartedAt: 2025-04-21 18:31:49 -0400 (Mon, 21 Apr 2025) EndedAt: 2025-04-21 18:33:19 -0400 (Mon, 21 Apr 2025) EllapsedTime: 90.3 seconds RetCode: 0 Status: OK PackageFile: soGGi_1.40.0.tar.gz PackageFileSize: 3.318 MiB