Package: soGGi Version: 1.40.1 Command: /home/biocbuild/R/R/bin/R CMD check --install=check:soGGi.install-out.txt --library=/home/biocbuild/R/R/site-library --no-vignettes --timings soGGi_1.40.1.tar.gz StartedAt: 2025-10-14 14:29:59 -0000 (Tue, 14 Oct 2025) EndedAt: 2025-10-14 14:37:23 -0000 (Tue, 14 Oct 2025) EllapsedTime: 443.5 seconds RetCode: 1 Status: ERROR CheckDir: soGGi.Rcheck Warnings: NA