Package: soGGi Version: 1.40.0 Command: /Library/Frameworks/R.framework/Resources/bin/R CMD check --install=check:soGGi.install-out.txt --library=/Library/Frameworks/R.framework/Resources/library --no-vignettes --timings soGGi_1.40.0.tar.gz StartedAt: 2025-04-21 21:46:54 -0400 (Mon, 21 Apr 2025) EndedAt: 2025-04-21 21:48:54 -0400 (Mon, 21 Apr 2025) EllapsedTime: 119.3 seconds RetCode: 0 Status: OK CheckDir: soGGi.Rcheck Warnings: 0