Package: snm Version: 1.56.0 Command: /home/biocbuild/bbs-3.21-bioc/R/bin/R CMD INSTALL snm StartedAt: 2025-10-15 15:05:49 -0400 (Wed, 15 Oct 2025) EndedAt: 2025-10-15 15:06:22 -0400 (Wed, 15 Oct 2025) EllapsedTime: 32.9 seconds RetCode: 0 Status: OK