Package: snm Version: 1.56.0 Command: /home/biocbuild/bbs-3.21-bioc/R/bin/R CMD check --install=check:snm.install-out.txt --library=/home/biocbuild/bbs-3.21-bioc/R/site-library --timings snm_1.56.0.tar.gz StartedAt: 2025-10-16 03:46:39 -0400 (Thu, 16 Oct 2025) EndedAt: 2025-10-16 03:52:25 -0400 (Thu, 16 Oct 2025) EllapsedTime: 346.4 seconds RetCode: 0 Status: OK CheckDir: snm.Rcheck Warnings: 0