Package: snifter Version: 1.18.1 Command: /home/biocbuild/bbs-3.21-bioc/R/bin/R CMD INSTALL snifter StartedAt: 2025-10-15 15:10:49 -0400 (Wed, 15 Oct 2025) EndedAt: 2025-10-15 15:10:55 -0400 (Wed, 15 Oct 2025) EllapsedTime: 5.3 seconds RetCode: 0 Status: OK