Package: snifter Version: 1.18.1 Command: /home/biocbuild/bbs-3.21-bioc/R/bin/R CMD check --install=check:snifter.install-out.txt --library=/home/biocbuild/bbs-3.21-bioc/R/site-library --timings snifter_1.18.1.tar.gz StartedAt: 2025-10-16 03:46:07 -0400 (Thu, 16 Oct 2025) EndedAt: 2025-10-16 03:48:21 -0400 (Thu, 16 Oct 2025) EllapsedTime: 134.1 seconds RetCode: 0 Status: OK CheckDir: snifter.Rcheck Warnings: 0