Package: snifter Version: 1.18.1 Command: /home/biocbuild/bbs-3.21-bioc/R/bin/R CMD build --keep-empty-dirs --no-resave-data snifter StartedAt: 2025-10-15 19:59:47 -0400 (Wed, 15 Oct 2025) EndedAt: 2025-10-15 20:00:25 -0400 (Wed, 15 Oct 2025) EllapsedTime: 38.0 seconds RetCode: 0 Status: OK PackageFile: snifter_1.18.1.tar.gz PackageFileSize: 727.1 KiB