Package: snifter Version: 1.18.1 Command: /home/biocbuild/R/R/bin/R CMD check --install=check:snifter.install-out.txt --library=/home/biocbuild/R/R/site-library --no-vignettes --timings snifter_1.18.1.tar.gz StartedAt: 2025-09-30 14:48:31 -0000 (Tue, 30 Sep 2025) EndedAt: 2025-09-30 14:51:09 -0000 (Tue, 30 Sep 2025) EllapsedTime: 158.1 seconds RetCode: 0 Status: OK CheckDir: snifter.Rcheck Warnings: 0