Package: snifter Version: 1.18.1 Command: /home/biocbuild/R/R/bin/R CMD build --keep-empty-dirs --no-resave-data snifter StartedAt: 2025-09-30 05:24:44 -0000 (Tue, 30 Sep 2025) EndedAt: 2025-09-30 05:25:46 -0000 (Tue, 30 Sep 2025) EllapsedTime: 62.0 seconds RetCode: 0 Status: OK PackageFile: snifter_1.18.1.tar.gz PackageFileSize: 788 KiB