Package: snifter Version: 1.18.0 Command: /Library/Frameworks/R.framework/Resources/bin/R CMD check --install=check:snifter.install-out.txt --library=/Library/Frameworks/R.framework/Resources/library --no-vignettes --timings snifter_1.18.0.tar.gz StartedAt: 2025-04-21 21:46:02 -0400 (Mon, 21 Apr 2025) EndedAt: 2025-04-21 21:46:54 -0400 (Mon, 21 Apr 2025) EllapsedTime: 52.6 seconds RetCode: 0 Status: OK CheckDir: snifter.Rcheck Warnings: 0