Package: snifter Version: 1.18.1 Command: /Library/Frameworks/R.framework/Resources/bin/R CMD check --install=check:snifter.install-out.txt --library=/Library/Frameworks/R.framework/Resources/library --no-vignettes --timings snifter_1.18.1.tar.gz StartedAt: 2025-10-01 13:13:36 -0400 (Wed, 01 Oct 2025) EndedAt: 2025-10-01 13:15:51 -0400 (Wed, 01 Oct 2025) EllapsedTime: 134.4 seconds RetCode: 0 Status: OK CheckDir: snifter.Rcheck Warnings: 0