Package: snifter Version: 1.18.1 Command: /Library/Frameworks/R.framework/Resources/bin/R CMD build --keep-empty-dirs --no-resave-data snifter StartedAt: 2025-09-30 09:43:39 -0400 (Tue, 30 Sep 2025) EndedAt: 2025-09-30 09:44:35 -0400 (Tue, 30 Sep 2025) EllapsedTime: 56.2 seconds RetCode: 0 Status: OK PackageFile: snifter_1.18.1.tar.gz PackageFileSize: 889.3 KiB