Package: snifter Version: 1.18.1 Command: rm -rf snifter.buildbin-libdir && mkdir snifter.buildbin-libdir && /Users/biocbuild/BBS/utils/build-universal.sh snifter_1.18.1.tar.gz /Library/Frameworks/R.framework/Resources/bin/R snifter.buildbin-libdir StartedAt: 2025-10-01 20:35:42 -0400 (Wed, 01 Oct 2025) EndedAt: 2025-10-01 20:35:54 -0400 (Wed, 01 Oct 2025) EllapsedTime: 11.3 seconds RetCode: 0 Status: OK PackageFile: snifter_1.18.1.tgz PackageFileSize: 907.4 KiB