Package: snapcount Version: 1.20.0 Command: /home/biocbuild/R/R/bin/R CMD INSTALL snapcount StartedAt: 2025-10-13 20:45:03 -0000 (Mon, 13 Oct 2025) EndedAt: 2025-10-13 20:45:44 -0000 (Mon, 13 Oct 2025) EllapsedTime: 40.9 seconds RetCode: 0 Status: OK