Package: snapcount Version: 1.20.0 Command: /home/biocbuild/R/R/bin/R CMD build --keep-empty-dirs --no-resave-data snapcount StartedAt: 2025-10-14 04:50:25 -0000 (Tue, 14 Oct 2025) EndedAt: 2025-10-14 04:54:29 -0000 (Tue, 14 Oct 2025) EllapsedTime: 244.1 seconds RetCode: 0 Status: OK PackageFile: snapcount_1.20.0.tar.gz PackageFileSize: 581.6 KiB