Package: snapcount Version: 1.20.0 Command: /Library/Frameworks/R.framework/Resources/bin/R CMD INSTALL snapcount StartedAt: 2025-10-13 16:47:48 -0400 (Mon, 13 Oct 2025) EndedAt: 2025-10-13 16:48:20 -0400 (Mon, 13 Oct 2025) EllapsedTime: 31.3 seconds RetCode: 0 Status: OK