Package: snapcount Version: 1.20.0 Command: /Library/Frameworks/R.framework/Resources/bin/R CMD build --keep-empty-dirs --no-resave-data snapcount StartedAt: 2025-10-14 09:48:16 -0400 (Tue, 14 Oct 2025) EndedAt: 2025-10-14 09:50:31 -0400 (Tue, 14 Oct 2025) EllapsedTime: 135.0 seconds RetCode: 0 Status: OK PackageFile: snapcount_1.20.0.tar.gz PackageFileSize: 514 KiB