Package: smartid Version: 1.4.0 Command: /home/biocbuild/bbs-3.21-bioc/R/bin/R CMD INSTALL smartid StartedAt: 2025-10-05 15:22:54 -0400 (Sun, 05 Oct 2025) EndedAt: 2025-10-05 15:23:18 -0400 (Sun, 05 Oct 2025) EllapsedTime: 24.2 seconds RetCode: 0 Status: OK