Package: smartid Version: 1.4.0 Command: /home/biocbuild/bbs-3.21-bioc/R/bin/R CMD check --install=check:smartid.install-out.txt --library=/home/biocbuild/bbs-3.21-bioc/R/site-library --timings smartid_1.4.0.tar.gz StartedAt: 2025-10-06 03:40:43 -0400 (Mon, 06 Oct 2025) EndedAt: 2025-10-06 03:44:45 -0400 (Mon, 06 Oct 2025) EllapsedTime: 242.3 seconds RetCode: 0 Status: OK CheckDir: smartid.Rcheck Warnings: 0