Package: smartid Version: 1.4.0 Command: /home/biocbuild/bbs-3.21-bioc/R/bin/R CMD build --keep-empty-dirs --no-resave-data smartid StartedAt: 2025-10-05 20:00:42 -0400 (Sun, 05 Oct 2025) EndedAt: 2025-10-05 20:01:48 -0400 (Sun, 05 Oct 2025) EllapsedTime: 66.1 seconds RetCode: 0 Status: OK PackageFile: smartid_1.4.0.tar.gz PackageFileSize: 2.093 MiB