Package: smartid Version: 1.4.0 Command: /Library/Frameworks/R.framework/Resources/bin/R CMD INSTALL smartid StartedAt: 2025-10-06 16:32:12 -0400 (Mon, 06 Oct 2025) EndedAt: 2025-10-06 16:32:41 -0400 (Mon, 06 Oct 2025) EllapsedTime: 29.0 seconds RetCode: 0 Status: OK