Package: smartid Version: 1.4.0 Command: /Library/Frameworks/R.framework/Resources/bin/R CMD check --install=check:smartid.install-out.txt --library=/Library/Frameworks/R.framework/Resources/library --no-vignettes --timings smartid_1.4.0.tar.gz StartedAt: 2025-10-08 15:18:07 -0400 (Wed, 08 Oct 2025) EndedAt: 2025-10-08 15:22:04 -0400 (Wed, 08 Oct 2025) EllapsedTime: 237.3 seconds RetCode: 0 Status: OK CheckDir: smartid.Rcheck Warnings: 0