Package: smartid Version: 1.4.0 Command: /Library/Frameworks/R.framework/Resources/bin/R CMD build --keep-empty-dirs --no-resave-data smartid StartedAt: 2025-10-07 10:11:02 -0400 (Tue, 07 Oct 2025) EndedAt: 2025-10-07 10:12:31 -0400 (Tue, 07 Oct 2025) EllapsedTime: 89.6 seconds RetCode: 0 Status: OK PackageFile: smartid_1.4.0.tar.gz PackageFileSize: 2.015 MiB