Package: slingshot Version: 2.16.0 Command: /Library/Frameworks/R.framework/Resources/bin/R CMD build --keep-empty-dirs --no-resave-data slingshot StartedAt: 2025-10-13 22:46:44 -0400 (Mon, 13 Oct 2025) EndedAt: 2025-10-13 22:48:49 -0400 (Mon, 13 Oct 2025) EllapsedTime: 124.8 seconds RetCode: 0 Status: OK PackageFile: slingshot_2.16.0.tar.gz PackageFileSize: 2.268 MiB