Package: slingshot Version: 2.16.0 Command: rm -rf slingshot.buildbin-libdir && mkdir slingshot.buildbin-libdir && /Users/biocbuild/BBS/utils/build-universal.sh slingshot_2.16.0.tar.gz /Library/Frameworks/R.framework/Resources/bin/R slingshot.buildbin-libdir StartedAt: 2025-04-21 22:53:08 -0400 (Mon, 21 Apr 2025) EndedAt: 2025-04-21 22:53:19 -0400 (Mon, 21 Apr 2025) EllapsedTime: 11.3 seconds RetCode: 0 Status: OK PackageFile: slingshot_2.16.0.tgz PackageFileSize: 2.616 MiB