Package: slalom Version: 1.30.0 Command: chmod a+r slalom -R && E:\biocbuild\bbs-3.21-bioc\R\bin\R.exe CMD build --keep-empty-dirs --no-resave-data slalom StartedAt: 2025-08-14 22:19:40 -0400 (Thu, 14 Aug 2025) EndedAt: 2025-08-14 22:21:32 -0400 (Thu, 14 Aug 2025) EllapsedTime: 112.5 seconds RetCode: 0 Status: OK PackageFile: slalom_1.30.0.tar.gz PackageFileSize: 17.42 MiB