Package: slalom Version: 1.30.0 Command: /home/biocbuild/R/R/bin/R CMD build --keep-empty-dirs --no-resave-data slalom StartedAt: 2025-10-14 04:49:22 -0000 (Tue, 14 Oct 2025) EndedAt: 2025-10-14 04:51:33 -0000 (Tue, 14 Oct 2025) EllapsedTime: 131.1 seconds RetCode: 0 Status: OK PackageFile: slalom_1.30.0.tar.gz PackageFileSize: 17.58 MiB