Package: slalom Version: 1.30.0 Command: /Library/Frameworks/R.framework/Resources/bin/R CMD INSTALL slalom StartedAt: 2025-04-21 15:12:20 -0400 (Mon, 21 Apr 2025) EndedAt: 2025-04-21 15:12:23 -0400 (Mon, 21 Apr 2025) EllapsedTime: 3.1 seconds RetCode: 1 Status: ERROR