Package: skewr Version: 1.40.0 Command: E:\biocbuild\bbs-3.21-bioc\R\bin\R.exe CMD check --no-multiarch --install=check:skewr.install-out.txt --library=E:\biocbuild\bbs-3.21-bioc\R\library --no-vignettes --timings skewr_1.40.0.tar.gz StartedAt: 2025-08-15 07:04:40 -0400 (Fri, 15 Aug 2025) EndedAt: 2025-08-15 07:11:35 -0400 (Fri, 15 Aug 2025) EllapsedTime: 414.9 seconds RetCode: 0 Status: OK CheckDir: skewr.Rcheck Warnings: 0