Package: skewr Version: 1.40.0 Command: rm -rf skewr.buildbin-libdir && mkdir skewr.buildbin-libdir && /Users/biocbuild/BBS/utils/build-universal.sh skewr_1.40.0.tar.gz /Library/Frameworks/R.framework/Resources/bin/R skewr.buildbin-libdir StartedAt: 2025-04-22 01:10:04 -0400 (Tue, 22 Apr 2025) EndedAt: 2025-04-22 01:11:17 -0400 (Tue, 22 Apr 2025) EllapsedTime: 72.6 seconds RetCode: 0 Status: OK PackageFile: skewr_1.40.0.tgz PackageFileSize: 759.9 KiB