Package: sketchR Version: 1.4.0 Command: rm -rf sketchR.buildbin-libdir && mkdir sketchR.buildbin-libdir && /Users/biocbuild/BBS/utils/build-universal.sh sketchR_1.4.0.tar.gz /Library/Frameworks/R.framework/Resources/bin/R sketchR.buildbin-libdir StartedAt: 2025-10-14 14:49:27 -0400 (Tue, 14 Oct 2025) EndedAt: 2025-10-14 14:50:09 -0400 (Tue, 14 Oct 2025) EllapsedTime: 41.7 seconds RetCode: 0 Status: OK PackageFile: sketchR_1.4.0.tgz PackageFileSize: 1.161 MiB