Package: sketchR Version: 1.4.0 Command: /Library/Frameworks/R.framework/Resources/bin/R CMD check --install=check:sketchR.install-out.txt --library=/Library/Frameworks/R.framework/Resources/library --no-vignettes --timings sketchR_1.4.0.tar.gz StartedAt: 2025-04-21 23:38:44 -0400 (Mon, 21 Apr 2025) EndedAt: 2025-04-21 23:41:47 -0400 (Mon, 21 Apr 2025) EllapsedTime: 183.1 seconds RetCode: 0 Status: OK CheckDir: sketchR.Rcheck Warnings: 0