Package: sketchR Version: 1.4.0 Command: /home/biocbuild/R/R/bin/R CMD INSTALL sketchR StartedAt: 2025-10-13 20:28:38 -0000 (Mon, 13 Oct 2025) EndedAt: 2025-10-13 20:28:59 -0000 (Mon, 13 Oct 2025) EllapsedTime: 21.0 seconds RetCode: 0 Status: OK