Package: sketchR Version: 1.4.0 Command: /home/biocbuild/R/R/bin/R CMD build --keep-empty-dirs --no-resave-data sketchR StartedAt: 2025-10-14 04:49:10 -0000 (Tue, 14 Oct 2025) EndedAt: 2025-10-14 04:52:18 -0000 (Tue, 14 Oct 2025) EllapsedTime: 188.1 seconds RetCode: 0 Status: OK PackageFile: sketchR_1.4.0.tar.gz PackageFileSize: 985.9 KiB