Package: sketchR Version: 1.4.0 Command: /Library/Frameworks/R.framework/Resources/bin/R CMD INSTALL sketchR StartedAt: 2025-10-13 15:41:43 -0400 (Mon, 13 Oct 2025) EndedAt: 2025-10-13 15:42:02 -0400 (Mon, 13 Oct 2025) EllapsedTime: 18.8 seconds RetCode: 0 Status: OK