Package: sizepower Version: 1.78.0 Command: /Library/Frameworks/R.framework/Resources/bin/R CMD check --install=check:sizepower.install-out.txt --library=/Library/Frameworks/R.framework/Resources/library --no-vignettes --timings sizepower_1.78.0.tar.gz StartedAt: 2025-10-10 10:35:57 -0400 (Fri, 10 Oct 2025) EndedAt: 2025-10-10 10:36:36 -0400 (Fri, 10 Oct 2025) EllapsedTime: 39.0 seconds RetCode: 0 Status: OK CheckDir: sizepower.Rcheck Warnings: 0