Package: sizepower Version: 1.78.0 Command: /Library/Frameworks/R.framework/Resources/bin/R CMD build --keep-empty-dirs --no-resave-data sizepower StartedAt: 2025-10-09 22:47:35 -0400 (Thu, 09 Oct 2025) EndedAt: 2025-10-09 22:47:50 -0400 (Thu, 09 Oct 2025) EllapsedTime: 14.5 seconds RetCode: 0 Status: OK PackageFile: sizepower_1.78.0.tar.gz PackageFileSize: 295 KiB