Package: sizepower Version: 1.78.0 Command: /Library/Frameworks/R.framework/Resources/bin/R CMD INSTALL sizepower StartedAt: 2025-10-09 15:05:53 -0400 (Thu, 09 Oct 2025) EndedAt: 2025-10-09 15:05:56 -0400 (Thu, 09 Oct 2025) EllapsedTime: 3.4 seconds RetCode: 0 Status: OK